BEGIN:VCALENDAR
VERSION:2.0
PRODID:-//Squarespace Inc/Squarespace 6//v6//EN
BEGIN:VEVENT
UID:59e6c41b8a02c7265b5e32ea@squarespace.com
DTSTAMP:20171018T030233Z
DTSTART:20171010T003000Z
DTEND:20171010T043000Z
SUMMARY:10 - Rural Operation Horse Husbandry Workshop
END:VEVENT
END:VCALENDAR
