BEGIN:VCALENDAR
VERSION:2.0
PRODID:-//Squarespace Inc/Squarespace 6//v6//EN
BEGIN:VEVENT
UID:59e6c634f6576e2bd65bf92b@squarespace.com
DTSTAMP:20171018T031102Z
DTSTART:20171109T230000Z
DTEND:20171109T230000Z
SUMMARY:10 - Business Innovations - Mrs Hooper (Assignment Draft)
END:VEVENT
END:VCALENDAR
