BEGIN:VCALENDAR
VERSION:2.0
PRODID:-//Squarespace Inc/Squarespace 6//v6//EN
BEGIN:VEVENT
UID:59e6c6122278e7edf206b1f1@squarespace.com
DTSTAMP:20171018T031029Z
DTSTART:20171110T003000Z
DTEND:20171110T014000Z
SUMMARY:10 - Drama - Mrs Larner (Performance)
END:VEVENT
END:VCALENDAR
