BEGIN:VCALENDAR
VERSION:2.0
PRODID:-//Squarespace Inc/Squarespace 6//v6//EN
BEGIN:VEVENT
UID:59e6c670e5dd5b46391d299a@squarespace.com
DTSTAMP:20171018T031217Z
DTSTART:20171109T230000Z
DTEND:20171109T230000Z
SUMMARY:10 - Equine - Mrs Carpenter - (Horse Industry assignment) 
END:VEVENT
END:VCALENDAR
