BEGIN:VCALENDAR
VERSION:2.0
PRODID:-//Squarespace Inc/Squarespace 6//v6//EN
BEGIN:VEVENT
UID:59e6c947ccc5c588c62b8e25@squarespace.com
DTSTAMP:20171018T032423Z
DTSTART:20171113T230000Z
DTEND:20171113T230000Z
SUMMARY:10 - English - Mrs Pryor/Mrs Buttsworth/Mrs Larner (Persuasive Spee
 ch final)
END:VEVENT
END:VCALENDAR
