BEGIN:VCALENDAR
VERSION:2.0
PRODID:-//Squarespace Inc/Squarespace 6//v6//EN
BEGIN:VEVENT
UID:59e6c9766f4ca39efc00864c@squarespace.com
DTSTAMP:20171018T032510Z
DTSTART:20171114T230000Z
DTEND:20171114T230000Z
SUMMARY:10 - Food Technology - Mrs Downes (Assignment)
END:VEVENT
END:VCALENDAR
