BEGIN:VCALENDAR
VERSION:2.0
PRODID:-//Squarespace Inc/Squarespace 6//v6//EN
BEGIN:VEVENT
UID:59e6c6caa9db0951565ba034@squarespace.com
DTSTAMP:20171018T031336Z
DTSTART:20171114T230000Z
DTEND:20171114T230000Z
SUMMARY:10 - Physical Education - Mr Johnston/Mr McGann (Energy Systems
END:VEVENT
END:VCALENDAR
