BEGIN:VCALENDAR
VERSION:2.0
PRODID:-//Squarespace Inc/Squarespace 6//v6//EN
BEGIN:VEVENT
UID:59e6c7129f07f52e7c32fcee@squarespace.com
DTSTAMP:20171018T031447Z
DTSTART:20171116T230000Z
DTEND:20171116T230000Z
SUMMARY:10 - Applied Science - Mr R Ball (Survive the Drive Assignment)
END:VEVENT
END:VCALENDAR
