BEGIN:VCALENDAR
VERSION:2.0
PRODID:-//Squarespace Inc/Squarespace 6//v6//EN
BEGIN:VEVENT
UID:59e6c73912abd996792c648f@squarespace.com
DTSTAMP:20171018T031522Z
DTSTART:20171116T230000Z
DTEND:20171116T230000Z
SUMMARY:10 - Applied Science - Mrs Stewart (Survive the Drive Assignment)
END:VEVENT
END:VCALENDAR
