BEGIN:VCALENDAR
VERSION:2.0
PRODID:-//Squarespace Inc/Squarespace 6//v6//EN
BEGIN:VEVENT
UID:5a09047d4192029150927b41@squarespace.com
DTSTAMP:20171113T023534Z
DTSTART:20171120T014000Z
DTEND:20171120T025000Z
SUMMARY:10 - Intermediate Maths - Tonya Holder (Exam)
END:VEVENT
END:VCALENDAR
