BEGIN:VCALENDAR
VERSION:2.0
PRODID:-//Squarespace Inc/Squarespace 6//v6//EN
BEGIN:VEVENT
UID:59e6c75e692ebe2b0dbe88f6@squarespace.com
DTSTAMP:20171018T031625Z
DTSTART:20171120T230000Z
DTEND:20171120T230000Z
SUMMARY:10 - Advanced science -  Mrs D White (Exam) 
END:VEVENT
END:VCALENDAR
