BEGIN:VCALENDAR
VERSION:2.0
PRODID:-//Squarespace Inc/Squarespace 6//v6//EN
BEGIN:VEVENT
UID:59e6c8b9dc2b4afd61b5c003@squarespace.com
DTSTAMP:20171018T032151Z
DTSTART:20171120T230000Z
DTEND:20171120T230000Z
SUMMARY:10 - Business Innovations - Mrs Hooper (Assignment Final)
END:VEVENT
END:VCALENDAR
