BEGIN:VCALENDAR
VERSION:2.0
PRODID:-//Squarespace Inc/Squarespace 6//v6//EN
BEGIN:VEVENT
UID:59e6c8dee45a7c7ff0bbc811@squarespace.com
DTSTAMP:20171018T032258Z
DTSTART:20171121T033000Z
DTEND:20171121T044000Z
SUMMARY:10 - Dance - Mrs McGann - Practical & Written Document  
END:VEVENT
END:VCALENDAR
