BEGIN:VCALENDAR
VERSION:2.0
PRODID:-//Squarespace Inc/Squarespace 6//v6//EN
BEGIN:VEVENT
UID:59e6c892e5dd5b46391d42c7@squarespace.com
DTSTAMP:20171018T032114Z
DTSTART:20171120T230000Z
DTEND:20171120T230000Z
SUMMARY:10 - DIGITAL DESIGN - MRS BENNETT (PROJECT)
END:VEVENT
END:VCALENDAR
