BEGIN:VCALENDAR
VERSION:2.0
PRODID:-//Squarespace Inc/Squarespace 6//v6//EN
BEGIN:VEVENT
UID:59e6c921c027d82b6602471e@squarespace.com
DTSTAMP:20171018T032335Z
DTSTART:20171121T230000Z
DTEND:20171121T230000Z
SUMMARY:10 - ART - MRS BENNETT (MAJOR ARTWORK)
END:VEVENT
END:VCALENDAR
