BEGIN:VCALENDAR
VERSION:2.0
PRODID:-//Squarespace Inc/Squarespace 6//v6//EN
BEGIN:VEVENT
UID:59e6c9c4cd39c30b9887b9bf@squarespace.com
DTSTAMP:20171018T032622Z
DTSTART:20171121T230000Z
DTEND:20171121T230000Z
SUMMARY:10 - Industrial Graphics - Mr Manskie (Drawing Folio)
END:VEVENT
END:VCALENDAR
