BEGIN:VCALENDAR
VERSION:2.0
PRODID:-//Squarespace Inc/Squarespace 6//v6//EN
BEGIN:VEVENT
UID:59e6c9f6a803bbeb8a3081ec@squarespace.com
DTSTAMP:20171018T032722Z
DTSTART:20171123T230000Z
DTEND:20171123T230000Z
SUMMARY:10 - Manufacturing - Mr Manskie (Small Projects)
END:VEVENT
END:VCALENDAR
