BEGIN:VCALENDAR
VERSION:2.0
PRODID:-//Squarespace Inc/Squarespace 6//v6//EN
BEGIN:VEVENT
UID:59e6c464c027d82b66020fb8@squarespace.com
DTSTAMP:20171018T030317Z
DTSTART:20171106T230000Z
DTEND:20171106T230000Z
SUMMARY:10 - Drama - Mrs Larner (Logbook)
END:VEVENT
END:VCALENDAR
