BEGIN:VCALENDAR
VERSION:2.0
PRODID:-//Squarespace Inc/Squarespace 6//v6//EN
BEGIN:VEVENT
UID:59e6c56d90bade55d9e66ed7@squarespace.com
DTSTAMP:20171018T030759Z
DTSTART:20171106T230000Z
DTEND:20171106T230000Z
SUMMARY:10 - English - Mrs Pryor/Mrs Buttsworth/Mrs Larner  (Persuasive Spe
 ech draft)
END:VEVENT
END:VCALENDAR
