BEGIN:VCALENDAR
VERSION:2.0
PRODID:-//Squarespace Inc/Squarespace 6//v6//EN
BEGIN:VEVENT
UID:59e6c59dace8643bba0abbfa@squarespace.com
DTSTAMP:20171018T030841Z
DTSTART:20171107T230000Z
DTEND:20171107T230000Z
SUMMARY:10 - Cinematography - Mr Jeffs - (Music Video Production)
END:VEVENT
END:VCALENDAR
