BEGIN:VCALENDAR
VERSION:2.0
PRODID:-//Squarespace Inc/Squarespace 6//v6//EN
BEGIN:VEVENT
UID:59e6c5e82aeba5fd99e0e71b@squarespace.com
DTSTAMP:20171018T030954Z
DTSTART:20171108T230000Z
DTEND:20171108T230000Z
SUMMARY:10 - Intermediate Maths - Mrs T Holder (Probability Portfolio)
END:VEVENT
END:VCALENDAR
