BEGIN:VCALENDAR
VERSION:2.0
PRODID:-//Squarespace Inc/Squarespace 6//v6//EN
BEGIN:VEVENT
UID:59751fd12e69cf20a2843010@squarespace.com
DTSTAMP:20170727T054616Z
DTSTART:20170811T120000Z
DTEND:20170811T130000Z
SUMMARY:10H - History (Mrs Buttsworth) Research Assignment (Final)
END:VEVENT
END:VCALENDAR
