BEGIN:VCALENDAR
VERSION:2.0
PRODID:-//Squarespace Inc/Squarespace 6//v6//EN
BEGIN:VEVENT
UID:5975205adb29d6a05c5f3889@squarespace.com
DTSTAMP:20170815T231123Z
DTSTART:20170829T120000Z
DTEND:20170829T130000Z
SUMMARY:10 - Drama (Mrs Larner) Directing Task
END:VEVENT
END:VCALENDAR
