BEGIN:VCALENDAR
VERSION:2.0
PRODID:-//Squarespace Inc/Squarespace 6//v6//EN
BEGIN:VEVENT
UID:597520d215d5db2de1393bb6@squarespace.com
DTSTAMP:20170727T055009Z
DTSTART:20170829T120000Z
DTEND:20170829T130000Z
SUMMARY:10 - English (Mrs Pryor) Exam Essay Draft Outline
END:VEVENT
END:VCALENDAR
