BEGIN:VCALENDAR
VERSION:2.0
PRODID:-//Squarespace Inc/Squarespace 6//v6//EN
BEGIN:VEVENT
UID:5975214e9de4bb2cc3626ea5@squarespace.com
DTSTAMP:20170727T055127Z
DTSTART:20170830T120000Z
DTEND:20170830T130000Z
SUMMARY:10H - Physical Education (Mr Johnston) Biomechanics Presentation (F
 inal)
END:VEVENT
END:VCALENDAR
