BEGIN:VCALENDAR
VERSION:2.0
PRODID:-//Squarespace Inc/Squarespace 6//v6//EN
BEGIN:VEVENT
UID:5975213ee6f2e17330e58fe6@squarespace.com
DTSTAMP:20170727T055200Z
DTSTART:20170830T120000Z
DTEND:20170830T130000Z
SUMMARY:10B - Physical Education (Mr McGann) Biomechanics Presentation (Fin
 al)
END:VEVENT
END:VCALENDAR
