BEGIN:VCALENDAR
VERSION:2.0
PRODID:-//Squarespace Inc/Squarespace 6//v6//EN
BEGIN:VEVENT
UID:59752294f9a61e08c67f1272@squarespace.com
DTSTAMP:20170728T041936Z
DTSTART:20170912T120000Z
DTEND:20170912T130000Z
SUMMARY:10 - Design (Mrs Bennett) Animate Folio
END:VEVENT
END:VCALENDAR
