BEGIN:VCALENDAR
VERSION:2.0
PRODID:-//Squarespace Inc/Squarespace 6//v6//EN
BEGIN:VEVENT
UID:59752284b8a79b94b0c5b36e@squarespace.com
DTSTAMP:20170728T042115Z
DTSTART:20170912T120000Z
DTEND:20170912T130000Z
SUMMARY:10 - Dance (Mrs McGann) Yr 2 Choreography / Teaching Task
END:VEVENT
END:VCALENDAR
