BEGIN:VCALENDAR
VERSION:2.0
PRODID:-//Squarespace Inc/Squarespace 6//v6//EN
BEGIN:VEVENT
UID:59752274f14aa142f544c996@squarespace.com
DTSTAMP:20170728T042150Z
DTSTART:20170912T120000Z
DTEND:20170912T130000Z
SUMMARY:10 - Cinematography (Mr Jeffs) Production - Music Video
END:VEVENT
END:VCALENDAR
