BEGIN:VCALENDAR
VERSION:2.0
PRODID:-//Squarespace Inc/Squarespace 6//v6//EN
BEGIN:VEVENT
UID:597522a33a041155fa486dcd@squarespace.com
DTSTAMP:20170728T042223Z
DTSTART:20170913T120000Z
DTEND:20170913T130000Z
SUMMARY:10 - Art (Mrs Bennett) Final Artwork + Diary
END:VEVENT
END:VCALENDAR
