BEGIN:VCALENDAR
VERSION:2.0
PRODID:-//Squarespace Inc/Squarespace 6//v6//EN
BEGIN:VEVENT
UID:597522639de4bb2cc3627abf@squarespace.com
DTSTAMP:20170728T042044Z
DTSTART:20170912T120000Z
DTEND:20170912T130000Z
SUMMARY:10 - Advanced Science (Mrs White) Exam - Global Systems Understandi
 ng
END:VEVENT
END:VCALENDAR
