BEGIN:VCALENDAR
VERSION:2.0
PRODID:-//Squarespace Inc/Squarespace 6//v6//EN
BEGIN:VEVENT
UID:5975221abebafb04b95de9d5@squarespace.com
DTSTAMP:20170727T055941Z
DTSTART:20170908T120000Z
DTEND:20170908T130000Z
SUMMARY:10 - Applied Science (Mr R Ball) Earth Report
END:VEVENT
END:VCALENDAR
