BEGIN:VCALENDAR
VERSION:2.0
PRODID:-//Squarespace Inc/Squarespace 6//v6//EN
BEGIN:VEVENT
UID:59752205e3df28d8889dc3d2@squarespace.com
DTSTAMP:20170727T060012Z
DTSTART:20170908T120000Z
DTEND:20170908T130000Z
SUMMARY:10 - Advanced Science (Mrs White) Exam - Global Systems Skills
END:VEVENT
END:VCALENDAR
