BEGIN:VCALENDAR
VERSION:2.0
PRODID:-//Squarespace Inc/Squarespace 6//v6//EN
BEGIN:VEVENT
UID:5975212020099e96a3986470@squarespace.com
DTSTAMP:20170727T055228Z
DTSTART:20170830T120000Z
DTEND:20170830T130000Z
SUMMARY:10 - Food Technology (Mrs Downes) Multimodal Assignment (Draft)
END:VEVENT
END:VCALENDAR
