BEGIN:VCALENDAR
VERSION:2.0
PRODID:-//Squarespace Inc/Squarespace 6//v6//EN
BEGIN:VEVENT
UID:597520ac29687fd9f2b3729d@squarespace.com
DTSTAMP:20170727T055048Z
DTSTART:20170829T120000Z
DTEND:20170829T130000Z
SUMMARY:10 - English (Mrs Buttsworth) Exam Essay Draft Outline
END:VEVENT
END:VCALENDAR
