BEGIN:VCALENDAR
VERSION:2.0
PRODID:-//Squarespace Inc/Squarespace 6//v6//EN
BEGIN:VEVENT
UID:597520a99f7456e0238548ac@squarespace.com
DTSTAMP:20170727T055030Z
DTSTART:20170829T120000Z
DTEND:20170829T130000Z
SUMMARY:10 - English (Mrs du Toit) Exam Essay Draft Outline
END:VEVENT
END:VCALENDAR
