BEGIN:VCALENDAR
VERSION:2.0
PRODID:-//Squarespace Inc/Squarespace 6//v6//EN
BEGIN:VEVENT
UID:5975208ecd39c3164926246b@squarespace.com
DTSTAMP:20170727T054920Z
DTSTART:20170822T120000Z
DTEND:20170822T130000Z
SUMMARY:10 - Outdoor Ed (MrMcGann) Assignment - Camp Reflection
END:VEVENT
END:VCALENDAR
