BEGIN:VCALENDAR
VERSION:2.0
PRODID:-//Squarespace Inc/Squarespace 6//v6//EN
BEGIN:VEVENT
UID:59752078725e25e03b6d17da@squarespace.com
DTSTAMP:20170728T042000Z
DTSTART:20170822T120000Z
DTEND:20170822T130000Z
SUMMARY:10 - Coding (Mr Purnell) Web Page design (Draft)
END:VEVENT
END:VCALENDAR
