BEGIN:VCALENDAR
VERSION:2.0
PRODID:-//Squarespace Inc/Squarespace 6//v6//EN
BEGIN:VEVENT
UID:5975203bf14aa142f544b070@squarespace.com
DTSTAMP:20170727T054855Z
DTSTART:20170818T120000Z
DTEND:20170818T130000Z
SUMMARY:10 - Advanced Science (Mrs White) Big Bang Cartoon
END:VEVENT
END:VCALENDAR
