BEGIN:VCALENDAR
VERSION:2.0
PRODID:-//Squarespace Inc/Squarespace 6//v6//EN
BEGIN:VEVENT
UID:597520236a49636e876765ed@squarespace.com
DTSTAMP:20170727T054737Z
DTSTART:20170816T120000Z
DTEND:20170816T130000Z
SUMMARY:10H - Physical Education (Mr Johnston) Biomechanics Presentation (D
 raft)
END:VEVENT
END:VCALENDAR
