BEGIN:VCALENDAR
VERSION:2.0
PRODID:-//Squarespace Inc/Squarespace 6//v6//EN
BEGIN:VEVENT
UID:597520066a49636e87676427@squarespace.com
DTSTAMP:20170727T054755Z
DTSTART:20170816T120000Z
DTEND:20170816T130000Z
SUMMARY:10B - Physical Education (Mr McGann) Biomechanics Presentation (Dra
 ft)
END:VEVENT
END:VCALENDAR
