BEGIN:VCALENDAR
VERSION:2.0
PRODID:-//Squarespace Inc/Squarespace 6//v6//EN
BEGIN:VEVENT
UID:59751fec37c581dd4631c193@squarespace.com
DTSTAMP:20170727T054659Z
DTSTART:20170815T120000Z
DTEND:20170815T130000Z
SUMMARY:10 Cinematography (Mr Jeffs) Music Video Analysis
END:VEVENT
END:VCALENDAR
