BEGIN:VCALENDAR
VERSION:2.0
PRODID:-//Squarespace Inc/Squarespace 6//v6//EN
BEGIN:VEVENT
UID:59751fbccd0f689adba10cf5@squarespace.com
DTSTAMP:20170727T054638Z
DTSTART:20170811T120000Z
DTEND:20170811T130000Z
SUMMARY:10B - History (Ms Gault) Research Assignment (Final)
END:VEVENT
END:VCALENDAR
