BEGIN:VCALENDAR
VERSION:2.0
PRODID:-//Squarespace Inc/Squarespace 6//v6//EN
BEGIN:VEVENT
UID:59751f9220099e96a39852ad@squarespace.com
DTSTAMP:20170727T054323Z
DTSTART:20170808T120000Z
DTEND:20170808T130000Z
SUMMARY:10 - Coding (Mr Purnell) Web Page design (Draft)
END:VEVENT
END:VCALENDAR
