BEGIN:VCALENDAR
VERSION:2.0
PRODID:-//Squarespace Inc/Squarespace 6//v6//EN
BEGIN:VEVENT
UID:59751f77579fb3d3de0297e6@squarespace.com
DTSTAMP:20170727T054241Z
DTSTART:20170804T120000Z
DTEND:20170804T130000Z
SUMMARY:10 - Applied Science (Mr R Ball) Planets' Picture Book
END:VEVENT
END:VCALENDAR
