BEGIN:VCALENDAR
VERSION:2.0
PRODID:-//Squarespace Inc/Squarespace 6//v6//EN
BEGIN:VEVENT
UID:59751f62bebafb04b95dcbbf@squarespace.com
DTSTAMP:20170727T053330Z
DTSTART:20170803T120000Z
DTEND:20170803T130000Z
SUMMARY:10H - History (Mrs Buttsworth) Research Assignment Speech (Draft)
END:VEVENT
END:VCALENDAR
