BEGIN:VCALENDAR
VERSION:2.0
PRODID:-//Squarespace Inc/Squarespace 6//v6//EN
BEGIN:VEVENT
UID:59751f4bcd0f689adba10740@squarespace.com
DTSTAMP:20170727T054219Z
DTSTART:20170803T120000Z
DTEND:20170803T130000Z
SUMMARY:10B - History (Ms Gault) Research Assignment Speech (Draft)
END:VEVENT
END:VCALENDAR
