BEGIN:VCALENDAR
VERSION:2.0
PRODID:-//Squarespace Inc/Squarespace 6//v6//EN
BEGIN:VEVENT
UID:59751f12db29d6a05c5f290f@squarespace.com
DTSTAMP:20170727T053259Z
DTSTART:20170731T120000Z
DTEND:20170731T130000Z
SUMMARY:10 - Dance (Mrs McGann) Wakakirri Production Assessment
END:VEVENT
END:VCALENDAR
