BEGIN:VCALENDAR
VERSION:2.0
PRODID:-//Squarespace Inc/Squarespace 6//v6//EN
BEGIN:VEVENT
UID:59e6b107bff20023c1887e8d@squarespace.com
DTSTAMP:20171018T014052Z
DTSTART:20171114T230000Z
DTEND:20171114T230000Z
SUMMARY:6W - HaSS - Miss T Wright (Group Work Project)
END:VEVENT
END:VCALENDAR
