BEGIN:VCALENDAR
VERSION:2.0
PRODID:-//Squarespace Inc/Squarespace 6//v6//EN
BEGIN:VEVENT
UID:59e6b179fe54ef1cd45e6eef@squarespace.com
DTSTAMP:20171018T014234Z
DTSTART:20171119T230000Z
DTEND:20171119T230000Z
SUMMARY:6S - English - Miss P Simonka (Fantasy World)
END:VEVENT
END:VCALENDAR
